BEGIN:VCALENDAR
VERSION:2.0
PRODID:GlueUp
CALSCALE:GREGORIAN
BEGIN:VTIMEZONE
TZID:UTC
BEGIN:STANDARD
DTSTART:19700101T000000
TZOFFSETFROM:+0000
TZOFFSETTO:+0000
TZNAME:UTC
END:STANDARD
END:VTIMEZONE
BEGIN:VEVENT
TZ:+00
ORGANIZER;CN=Mona Wang:MAILTO:mona.wang@britishchambershanghai.cn
UID:47735-1776963274@https://britishchambershanghai.glueup.cn
DTSTAMP:20260423T165434Z
DTSTART:20250912T060000Z
DTEND:20250912T090000Z
SUMMARY:杭州·2025下半年全球经济展望：出海主题
DESCRIPTION:杭州·2025下半年全球经济展望：出海主题 by British Chamber of Commerce Shanghai\n\nSep 12, 2025 (14:00 - 17:00)(GMT+8)\n\nFor more information, click here: https://britishchambershanghai.glueup.cn/my/events/47735
LOCATION:杭州市拱墅区阿斯利康中国东部总部 - 杭州市拱墅区费家塘路758号数力大厦 Hangzhou - China
BEGIN:VALARM
TRIGGER:-PT48H
REPEAT:4
DURATION:PT30M
ACTION:DISPLAY
END:VALARM
END:VEVENT
END:VCALENDAR