BEGIN:VCALENDAR
VERSION:2.0
PRODID:GlueUp
CALSCALE:GREGORIAN
BEGIN:VTIMEZONE
TZID:UTC
BEGIN:STANDARD
DTSTART:19700101T000000
TZOFFSETFROM:+0000
TZOFFSETTO:+0000
TZNAME:UTC
END:STANDARD
END:VTIMEZONE
BEGIN:VEVENT
TZ:+00
ORGANIZER;CN=Yimeng Xia:MAILTO:yimeng.xia@britishchambershanghai.cn
UID:48485-1776639466@https://britishchambershanghai.glueup.cn
DTSTAMP:20260419T225746Z
DTSTART:20251024T054500Z
DTEND:20251024T100000Z
SUMMARY:Wellington Community Experience Day [Showcase Session]
DESCRIPTION:Wellington Community Experience Day [Showcase Session] by British Chamber of Commerce Shanghai\n\nOct 24, 2025 (13:45 - 18:00)(GMT+8)\n\nFor more information, click here: https://britishchambershanghai.glueup.cn/my/events/48485
LOCATION:Wellington College International Shanghai - No.1500 Yao Long Road - Pudong New District - Shanghai 200124 China - (Campus main gate: No. 100 - Hai Yang Xi Road) Shanghai - China
BEGIN:VALARM
TRIGGER:-PT48H
REPEAT:4
DURATION:PT30M
ACTION:DISPLAY
END:VALARM
END:VEVENT
END:VCALENDAR