BEGIN:VCALENDAR
VERSION:2.0
PRODID:GlueUp
CALSCALE:GREGORIAN
BEGIN:VTIMEZONE
TZID:UTC
BEGIN:STANDARD
DTSTART:19700101T000000
TZOFFSETFROM:+0000
TZOFFSETTO:+0000
TZNAME:UTC
END:STANDARD
END:VTIMEZONE
BEGIN:VEVENT
TZ:+00
ORGANIZER;CN=Yimeng Xia:MAILTO:yimeng.xia@britishchambershanghai.cn
UID:48315-1776950503@https://britishchambershanghai.glueup.cn
DTSTAMP:20260423T132143Z
DTSTART:20250925T033000Z
DTEND:20250925T053000Z
SUMMARY:Together for Mid-Autumn Joy
DESCRIPTION:Together for Mid-Autumn Joy by British Chamber of Commerce Shanghai\n\nSep 25, 2025 (11:30 - 13:30)(GMT+8)\n\nFor more information, click here: https://britishchambershanghai.glueup.cn/my/events/48315
LOCATION:BritCham Shanghai Office Lounge - 上海市静安区南京西路699号东方投资大厦21层2107室 上海市 - China
BEGIN:VALARM
TRIGGER:-PT48H
REPEAT:4
DURATION:PT30M
ACTION:DISPLAY
END:VALARM
END:VEVENT
END:VCALENDAR