BEGIN:VCALENDAR
VERSION:2.0
PRODID:GlueUp
CALSCALE:GREGORIAN
BEGIN:VTIMEZONE
TZID:UTC
BEGIN:STANDARD
DTSTART:19700101T000000
TZOFFSETFROM:+0000
TZOFFSETTO:+0000
TZNAME:UTC
END:STANDARD
END:VTIMEZONE
BEGIN:VEVENT
TZ:+00
ORGANIZER;CN=Eloise Zhang:MAILTO:eloise.zhang@britishchambershanghai.cn
UID:47674-1776950688@https://britishchambershanghai.glueup.cn
DTSTAMP:20260423T132448Z
DTSTART:20250703T090000Z
DTEND:20250703T130000Z
SUMMARY:The Marketer’s Lounge: InterChamber Event for International Marketeers
DESCRIPTION:The Marketer’s Lounge: InterChamber Event for International Marketeers by British Chamber of Commerce Shanghai\n\nJul 3, 2025 (17:00 - 21:00)(GMT+8)\n\nFor more information, click here: https://britishchambershanghai.glueup.cn/my/events/47674
LOCATION:Xiaohongshu (Rednote) Shanghai HQ | 小红书上海总部 - Block C - SOHO Fuxing Plaza - No. 388 Madang Road - Huangpu District - Shanghai - 上海市黄浦区 马当路388号复兴SOHO广场C座 Shanghai - China
BEGIN:VALARM
TRIGGER:-PT48H
REPEAT:4
DURATION:PT30M
ACTION:DISPLAY
END:VALARM
END:VEVENT
END:VCALENDAR