BEGIN:VCALENDAR
VERSION:2.0
PRODID:GlueUp
CALSCALE:GREGORIAN
BEGIN:VTIMEZONE
TZID:UTC
BEGIN:STANDARD
DTSTART:19700101T000000
TZOFFSETFROM:+0000
TZOFFSETTO:+0000
TZNAME:UTC
END:STANDARD
END:VTIMEZONE
BEGIN:VEVENT
TZ:+00
ORGANIZER;CN=Bale Xu:MAILTO:bale.xu@britishchambershanghai.cn
UID:47893-1776781698@https://britishchambershanghai.glueup.cn
DTSTAMP:20260421T142818Z
DTSTART:20250828T103000Z
DTEND:20250828T130000Z
SUMMARY:Summer Bingo Night
DESCRIPTION:Summer Bingo Night by British Chamber of Commerce Shanghai\n\nAug 28, 2025 (18:30 - 21:00)(GMT+8)\n\nFor more information, click here: https://britishchambershanghai.glueup.cn/my/events/47893
LOCATION:CAGES - 3F - 428 - Jiangning Road - Jing’an District Shanghai - China
BEGIN:VALARM
TRIGGER:-PT48H
REPEAT:4
DURATION:PT30M
ACTION:DISPLAY
END:VALARM
END:VEVENT
END:VCALENDAR