BEGIN:VCALENDAR
VERSION:2.0
PRODID:GlueUp
CALSCALE:GREGORIAN
BEGIN:VTIMEZONE
TZID:UTC
BEGIN:STANDARD
DTSTART:19700101T000000
TZOFFSETFROM:+0000
TZOFFSETTO:+0000
TZNAME:UTC
END:STANDARD
END:VTIMEZONE
BEGIN:VEVENT
TZ:+00
ORGANIZER;CN=Bale Xu:MAILTO:bale.xu@britishchambershanghai.cn
UID:48216-1776775604@https://britishchambershanghai.glueup.cn
DTSTAMP:20260421T124644Z
DTSTART:20251020T010000Z
DTEND:20251022T090000Z
SUMMARY:'Strategy for Directors' Course offered by IoD - Register your interest
DESCRIPTION:'Strategy for Directors' Course offered by IoD - Register your interest by British Chamber of Commerce Shanghai\n\nOct 20 - 22, 2025(GMT+8)\n\nFor more information, click here: https://britishchambershanghai.glueup.cn/my/events/48216
LOCATION:The British Centre - 17F Garden Square - 968 West Beijing Road - 上海市静安区北京西路968号嘉地中心17楼英国中心 Shanghai - China
BEGIN:VALARM
TRIGGER:-PT48H
REPEAT:4
DURATION:PT30M
ACTION:DISPLAY
END:VALARM
END:VEVENT
END:VCALENDAR