BEGIN:VCALENDAR
VERSION:2.0
PRODID:GlueUp
CALSCALE:GREGORIAN
BEGIN:VTIMEZONE
TZID:UTC
BEGIN:STANDARD
DTSTART:19700101T000000
TZOFFSETFROM:+0000
TZOFFSETTO:+0000
TZNAME:UTC
END:STANDARD
END:VTIMEZONE
BEGIN:VEVENT
TZ:+00
ORGANIZER;CN=Yiwen Ling:MAILTO:yiwen.ling@britishchambershanghai.cn
UID:47907-1776776501@https://britishchambershanghai.glueup.cn
DTSTAMP:20260421T130141Z
DTSTART:20251016T014500Z
DTEND:20251016T033000Z
SUMMARY:Shanghai 2030: Transforming Supply Chains for Radical Sustainability & Circular Innovation
DESCRIPTION:Shanghai 2030: Transforming Supply Chains for Radical Sustainability & Circular Innovation by British Chamber of Commerce Shanghai\n\nOct 16, 2025 (09:45 - 11:30)(GMT+8)\n\nFor more information, click here: https://britishchambershanghai.glueup.cn/my/events/47907
LOCATION:70 Yongfu Rd. - 徐汇区永福路70号 - No. 70 Yongfu Rd. Xuhui District Shanghai - China
BEGIN:VALARM
TRIGGER:-PT48H
REPEAT:4
DURATION:PT30M
ACTION:DISPLAY
END:VALARM
END:VEVENT
END:VCALENDAR