BEGIN:VCALENDAR
VERSION:2.0
PRODID:GlueUp
CALSCALE:GREGORIAN
BEGIN:VTIMEZONE
TZID:UTC
BEGIN:STANDARD
DTSTART:19700101T000000
TZOFFSETFROM:+0000
TZOFFSETTO:+0000
TZNAME:UTC
END:STANDARD
END:VTIMEZONE
BEGIN:VEVENT
TZ:+00
ORGANIZER;CN=Ann Pan:MAILTO:ann.pan@britishchambershanghai.cn
UID:47253-1776942770@https://britishchambershanghai.glueup.cn
DTSTAMP:20260423T111250Z
DTSTART:20250611T010000Z
DTEND:20250617T040000Z
SUMMARY:Sessions One & Two: Unlock the Power of AI Text and Reasoning Models for Your Business & Take Your AI Mastery to the Next Level
DESCRIPTION:Sessions One & Two: Unlock the Power of AI Text and Reasoning Models for Your Business & Take Your AI Mastery to the Next Level by British Chamber of Commerce Shanghai\n\nJun 11 - 17, 2025(GMT+8)\n\nFor more information, click here: https://britishchambershanghai.glueup.cn/my/events/47253
LOCATION:Virgin Atlantic Clubhouse at BritCham Shanghai Office - 上海市静安区南京西路699号东方投资大厦21层2107室 上海市 - China
BEGIN:VALARM
TRIGGER:-PT48H
REPEAT:4
DURATION:PT30M
ACTION:DISPLAY
END:VALARM
END:VEVENT
END:VCALENDAR