BEGIN:VCALENDAR
VERSION:2.0
PRODID:GlueUp
CALSCALE:GREGORIAN
BEGIN:VTIMEZONE
TZID:UTC
BEGIN:STANDARD
DTSTART:19700101T000000
TZOFFSETFROM:+0000
TZOFFSETTO:+0000
TZNAME:UTC
END:STANDARD
END:VTIMEZONE
BEGIN:VEVENT
TZ:+00
ORGANIZER;CN=Ann Pan:MAILTO:ann.pan@britishchambershanghai.cn
UID:47926-1776950556@https://britishchambershanghai.glueup.cn
DTSTAMP:20260423T132236Z
DTSTART:20250730T080000Z
DTEND:20250730T090000Z
SUMMARY:[Online Only] Launch & Briefing: 2025 Great British Day Out & Great British Sports Day
DESCRIPTION:[Online Only] Launch & Briefing: 2025 Great British Day Out & Great British Sports Day by British Chamber of Commerce Shanghai\n\nJul 30, 2025 (16:00 - 17:00)(GMT+8)\n\nFor more information, click here: https://britishchambershanghai.glueup.cn/my/events/47926
LOCATION:Virgin Atlantic Clubhouse at BritCham Shanghai Office - 上海市静安区南京西路699号东方投资大厦21层2107室 上海市 - China
BEGIN:VALARM
TRIGGER:-PT48H
REPEAT:4
DURATION:PT30M
ACTION:DISPLAY
END:VALARM
END:VEVENT
END:VCALENDAR