BEGIN:VCALENDAR
VERSION:2.0
PRODID:GlueUp
CALSCALE:GREGORIAN
BEGIN:VTIMEZONE
TZID:UTC
BEGIN:STANDARD
DTSTART:19700101T000000
TZOFFSETFROM:+0000
TZOFFSETTO:+0000
TZNAME:UTC
END:STANDARD
END:VTIMEZONE
BEGIN:VEVENT
TZ:+00
ORGANIZER;CN=Bale Xu:MAILTO:bale.xu@britishchambershanghai.cn
UID:47960-1776990724@https://britishchambershanghai.glueup.cn
DTSTAMP:20260424T003204Z
DTSTART:20260702T010000Z
DTEND:20260703T090000Z
SUMMARY:Leadership for Directors – IoD Certificate in Company Direction
DESCRIPTION:Leadership for Directors – IoD Certificate in Company Direction by British Chamber of Commerce Shanghai\n\nJul 2 & 3, 2026(GMT+8)\n\nFor more information, click here: https://britishchambershanghai.glueup.cn/my/events/47960
LOCATION:
BEGIN:VALARM
TRIGGER:-PT48H
REPEAT:4
DURATION:PT30M
ACTION:DISPLAY
END:VALARM
END:VEVENT
END:VCALENDAR