BEGIN:VCALENDAR
VERSION:2.0
PRODID:GlueUp
CALSCALE:GREGORIAN
BEGIN:VTIMEZONE
TZID:UTC
BEGIN:STANDARD
DTSTART:19700101T000000
TZOFFSETFROM:+0000
TZOFFSETTO:+0000
TZNAME:UTC
END:STANDARD
END:VTIMEZONE
BEGIN:VEVENT
TZ:+00
ORGANIZER;CN=Janet Jiang:MAILTO:janet.jiang@britishchambershanghai.cn
UID:49356-1776990862@https://britishchambershanghai.glueup.cn
DTSTAMP:20260424T003422Z
DTSTART:20261015T010000Z
DTEND:20261016T090000Z
SUMMARY:International Role of the Director and the Board – IoD Certificate
DESCRIPTION:International Role of the Director and the Board – IoD Certificate by British Chamber of Commerce Shanghai\n\nOct 15 & 16, 2026(GMT+8)\n\nFor more information, click here: https://britishchambershanghai.glueup.cn/my/events/49356
LOCATION:
BEGIN:VALARM
TRIGGER:-PT48H
REPEAT:4
DURATION:PT30M
ACTION:DISPLAY
END:VALARM
END:VEVENT
END:VCALENDAR