BEGIN:VCALENDAR
VERSION:2.0
PRODID:GlueUp
CALSCALE:GREGORIAN
BEGIN:VTIMEZONE
TZID:UTC
BEGIN:STANDARD
DTSTART:19700101T000000
TZOFFSETFROM:+0000
TZOFFSETTO:+0000
TZNAME:UTC
END:STANDARD
END:VTIMEZONE
BEGIN:VEVENT
TZ:+00
ORGANIZER;CN=Bale Xu:MAILTO:bale.xu@britishchambershanghai.cn
UID:50267-1776989705@https://britishchambershanghai.glueup.cn
DTSTAMP:20260424T001505Z
DTSTART:20260611T103000Z
DTEND:20260611T130000Z
SUMMARY:InterChamber Mixer: King’s Birthday Drinks
DESCRIPTION:InterChamber Mixer: King’s Birthday Drinks by British Chamber of Commerce Shanghai\n\nJun 11, 2026 (18:30 - 21:00)(GMT+8)\n\nFor more information, click here: https://britishchambershanghai.glueup.cn/my/events/50267
LOCATION:Morton’s Steakhouse - L4 - Shanghai IFC Mall 8 Century Avenue - Pudong New District - Shanghai - 莫尔顿牛排坊 - 陆家嘴世纪大道8号国金中心商场4楼 上海 - China
BEGIN:VALARM
TRIGGER:-PT48H
REPEAT:4
DURATION:PT30M
ACTION:DISPLAY
END:VALARM
END:VEVENT
END:VCALENDAR