BEGIN:VCALENDAR
VERSION:2.0
PRODID:GlueUp
CALSCALE:GREGORIAN
BEGIN:VTIMEZONE
TZID:UTC
BEGIN:STANDARD
DTSTART:19700101T000000
TZOFFSETFROM:+0000
TZOFFSETTO:+0000
TZNAME:UTC
END:STANDARD
END:VTIMEZONE
BEGIN:VEVENT
TZ:+00
ORGANIZER;CN=Hilary Wu:MAILTO:hilary.wu@britishchambershanghai.cn
UID:30639-1776809253@https://britishchambershanghai.glueup.cn
DTSTAMP:20260421T220733Z
DTSTART:20210326T103000Z
DTEND:20210326T140000Z
SUMMARY:InterChamber Alumni Homecoming Night [FULLY BOOKED]
DESCRIPTION:InterChamber Alumni Homecoming Night [FULLY BOOKED] by British Chamber of Commerce Shanghai\n\nMar 26, 2021 (18:30 - 22:00)(GMT+8)\n\nFor more information, click here: https://britishchambershanghai.glueup.cn/my/events/30639
LOCATION:Cages 凯吉思西餐厅运动乐园（静安店） - 3F - No.428 - Jiang Ning Road - Jing’an Sports Center - 江宁路428号静安区运动健身中心3层 Shanghai - China
BEGIN:VALARM
TRIGGER:-PT48H
REPEAT:4
DURATION:PT30M
ACTION:DISPLAY
END:VALARM
END:VEVENT
END:VCALENDAR