BEGIN:VCALENDAR
VERSION:2.0
PRODID:GlueUp
CALSCALE:GREGORIAN
BEGIN:VTIMEZONE
TZID:UTC
BEGIN:STANDARD
DTSTART:19700101T000000
TZOFFSETFROM:+0000
TZOFFSETTO:+0000
TZNAME:UTC
END:STANDARD
END:VTIMEZONE
BEGIN:VEVENT
TZ:+00
ORGANIZER;CN=Eloise Zhang:MAILTO:eloise.zhang@britishchambershanghai.cn
UID:47770-1776948460@https://britishchambershanghai.glueup.cn
DTSTAMP:20260423T124740Z
DTSTART:20250718T063000Z
DTEND:20250718T090000Z
SUMMARY:Igniting Engagement
DESCRIPTION:Igniting Engagement by British Chamber of Commerce Shanghai\n\nJul 18, 2025 (14:30 - 17:00)(GMT+8)\n\nFor more information, click here: https://britishchambershanghai.glueup.cn/my/events/47770
LOCATION:Virgin Atlantic Clubhouse at BritCham Shanghai Office - 上海市静安区南京西路699号东方投资大厦21层2107室 上海市 - China
BEGIN:VALARM
TRIGGER:-PT48H
REPEAT:4
DURATION:PT30M
ACTION:DISPLAY
END:VALARM
END:VEVENT
END:VCALENDAR