BEGIN:VCALENDAR
VERSION:2.0
PRODID:GlueUp
CALSCALE:GREGORIAN
BEGIN:VTIMEZONE
TZID:UTC
BEGIN:STANDARD
DTSTART:19700101T000000
TZOFFSETFROM:+0000
TZOFFSETTO:+0000
TZNAME:UTC
END:STANDARD
END:VTIMEZONE
BEGIN:VEVENT
TZ:+00
ORGANIZER;CN=Yimeng Xia:MAILTO:yimeng.xia@britishchambershanghai.cn
UID:50239-1776841433@https://britishchambershanghai.glueup.cn
DTSTAMP:20260422T070353Z
DTSTART:20260530T010000Z
DTEND:20260530T090000Z
SUMMARY:Great British Sports Day 2026
DESCRIPTION:Great British Sports Day 2026 by British Chamber of Commerce Shanghai\n\nMay 30, 2026 (09:00 - 17:00)(GMT+8)\n\nFor more information, click here: https://britishchambershanghai.glueup.cn/my/events/50239
LOCATION:Venue details will be announced soon. - Shanghai - China
BEGIN:VALARM
TRIGGER:-PT48H
REPEAT:4
DURATION:PT30M
ACTION:DISPLAY
END:VALARM
END:VEVENT
END:VCALENDAR