BEGIN:VCALENDAR
VERSION:2.0
PRODID:GlueUp
CALSCALE:GREGORIAN
BEGIN:VTIMEZONE
TZID:UTC
BEGIN:STANDARD
DTSTART:19700101T000000
TZOFFSETFROM:+0000
TZOFFSETTO:+0000
TZNAME:UTC
END:STANDARD
END:VTIMEZONE
BEGIN:VEVENT
TZ:+00
ORGANIZER;CN=Yiwen Ling:MAILTO:yiwen.ling@britishchambershanghai.cn
UID:49754-1776956657@https://britishchambershanghai.glueup.cn
DTSTAMP:20260423T150417Z
DTSTART:20260324T010000Z
DTEND:20260324T023000Z
SUMMARY:From China to Global: Partnering Strategies for the Next Wave of Biotech Innovation
DESCRIPTION:From China to Global: Partnering Strategies for the Next Wave of Biotech Innovation by British Chamber of Commerce Shanghai\n\nMar 24, 2026 (09:00 - 10:30)(GMT+8)\n\nFor more information, click here: https://britishchambershanghai.glueup.cn/my/events/49754
LOCATION:BritCham Shanghai Office - 上海市静安区南京西路699号东方投资大厦21层2107室 上海市
BEGIN:VALARM
TRIGGER:-PT48H
REPEAT:4
DURATION:PT30M
ACTION:DISPLAY
END:VALARM
END:VEVENT
END:VCALENDAR