BEGIN:VCALENDAR
VERSION:2.0
PRODID:GlueUp
CALSCALE:GREGORIAN
BEGIN:VTIMEZONE
TZID:UTC
BEGIN:STANDARD
DTSTART:19700101T000000
TZOFFSETFROM:+0000
TZOFFSETTO:+0000
TZNAME:UTC
END:STANDARD
END:VTIMEZONE
BEGIN:VEVENT
TZ:+00
ORGANIZER;CN=Janet Jiang:MAILTO:janet.jiang@britishchambershanghai.cn
UID:49353-1776945370@https://britishchambershanghai.glueup.cn
DTSTAMP:20260423T115610Z
DTSTART:20260413T010000Z
DTEND:20260415T090000Z
SUMMARY:Finance for Non-Finance Directors – IoD Certificate in Company Direction
DESCRIPTION:Finance for Non-Finance Directors – IoD Certificate in Company Direction by British Chamber of Commerce Shanghai\n\nApr 13 - 15, 2026(GMT+8)\n\nFor more information, click here: https://britishchambershanghai.glueup.cn/my/events/49353
LOCATION:
BEGIN:VALARM
TRIGGER:-PT48H
REPEAT:4
DURATION:PT30M
ACTION:DISPLAY
END:VALARM
END:VEVENT
END:VCALENDAR