BEGIN:VCALENDAR
VERSION:2.0
PRODID:GlueUp
CALSCALE:GREGORIAN
BEGIN:VTIMEZONE
TZID:UTC
BEGIN:STANDARD
DTSTART:19700101T000000
TZOFFSETFROM:+0000
TZOFFSETTO:+0000
TZNAME:UTC
END:STANDARD
END:VTIMEZONE
BEGIN:VEVENT
TZ:+00
ORGANIZER;CN=British Chamber Shanghai:MAILTO:admin@britishchambershanghai.cn
UID:48057-1776623702@https://britishchambershanghai.glueup.cn
DTSTAMP:20260419T183502Z
DTSTART:20250827T000000Z
DTEND:20250827T020000Z
SUMMARY:China Economic Outlook: Key Trends for H2 2025 and Beyond
DESCRIPTION:China Economic Outlook: Key Trends for H2 2025 and Beyond by British Chamber of Commerce Shanghai\n\nAug 27, 2025 (08:00 - 10:00)(GMT+8)\n\nFor more information, click here: https://britishchambershanghai.glueup.cn/my/events/48057
LOCATION:Guinness Social by Butler & White’s - No. 7 Land 210 Taikang Road - Huangpu District Shanghai - China
BEGIN:VALARM
TRIGGER:-PT48H
REPEAT:4
DURATION:PT30M
ACTION:DISPLAY
END:VALARM
END:VEVENT
END:VCALENDAR