BEGIN:VCALENDAR
VERSION:2.0
PRODID:GlueUp
CALSCALE:GREGORIAN
BEGIN:VTIMEZONE
TZID:UTC
BEGIN:STANDARD
DTSTART:19700101T000000
TZOFFSETFROM:+0000
TZOFFSETTO:+0000
TZNAME:UTC
END:STANDARD
END:VTIMEZONE
BEGIN:VEVENT
TZ:+00
ORGANIZER;CN=Eloise Zhang:MAILTO:eloise.zhang@britishchambershanghai.cn
UID:49403-1776948537@https://britishchambershanghai.glueup.cn
DTSTAMP:20260423T124857Z
DTSTART:20260320T000000Z
DTEND:20260320T020000Z
SUMMARY:Cancelled | From Customer to User
DESCRIPTION:Cancelled | From Customer to User by British Chamber of Commerce Shanghai\n\nMar 20, 2026 (08:00 - 10:00)(GMT+8)\n\nFor more information, click here: https://britishchambershanghai.glueup.cn/my/events/49403
LOCATION:BritCham Shanghai Office Lounge - 上海市静安区南京西路699号东方投资大厦21层2107室 上海市
BEGIN:VALARM
TRIGGER:-PT48H
REPEAT:4
DURATION:PT30M
ACTION:DISPLAY
END:VALARM
END:VEVENT
END:VCALENDAR