BEGIN:VCALENDAR
VERSION:2.0
PRODID:GlueUp
CALSCALE:GREGORIAN
BEGIN:VTIMEZONE
TZID:UTC
BEGIN:STANDARD
DTSTART:19700101T000000
TZOFFSETFROM:+0000
TZOFFSETTO:+0000
TZNAME:UTC
END:STANDARD
END:VTIMEZONE
BEGIN:VEVENT
TZ:+00
ORGANIZER;CN=Eloise Zhang:MAILTO:eloise.zhang@britishchambershanghai.cn
UID:48534-1776950527@https://britishchambershanghai.glueup.cn
DTSTAMP:20260423T132207Z
DTSTART:20251030T103000Z
DTEND:20251030T123000Z
SUMMARY:BritCham Shanghai Launches a New Creative Hub
DESCRIPTION:BritCham Shanghai Launches a New Creative Hub by British Chamber of Commerce Shanghai\n\nOct 30, 2025 (18:30 - 20:30)(GMT+8)\n\nFor more information, click here: https://britishchambershanghai.glueup.cn/my/events/48534
LOCATION:BritCham Shanghai Office Lounge - 上海市静安区南京西路699号东方投资大厦21层2107室 上海市 - China
BEGIN:VALARM
TRIGGER:-PT48H
REPEAT:4
DURATION:PT30M
ACTION:DISPLAY
END:VALARM
END:VEVENT
END:VCALENDAR