BEGIN:VCALENDAR
VERSION:2.0
PRODID:GlueUp
CALSCALE:GREGORIAN
BEGIN:VTIMEZONE
TZID:UTC
BEGIN:STANDARD
DTSTART:19700101T000000
TZOFFSETFROM:+0000
TZOFFSETTO:+0000
TZNAME:UTC
END:STANDARD
END:VTIMEZONE
BEGIN:VEVENT
TZ:+00
ORGANIZER;CN=Yimeng Xia:MAILTO:yimeng.xia@britishchambershanghai.cn
UID:48487-1776775876@https://britishchambershanghai.glueup.cn
DTSTAMP:20260421T125116Z
DTSTART:20251023T100000Z
DTEND:20251023T133000Z
SUMMARY:BritCham Shanghai 110th Anniversary Government Dinner – presented by HSBC
DESCRIPTION:BritCham Shanghai 110th Anniversary Government Dinner – presented by HSBC by British Chamber of Commerce Shanghai\n\nOct 23, 2025 (18:00 - 21:30)(GMT+8)\n\nFor more information, click here: https://britishchambershanghai.glueup.cn/my/events/48487
LOCATION:InterContinental Shanghai Hongqiao NECC - 上海虹桥国家会展中心洲际酒店 - 上海市青浦区诸光路1700号 - 1700 Zhuguang Road - Qingpu District - Shanghai Shanghai - China
BEGIN:VALARM
TRIGGER:-PT48H
REPEAT:4
DURATION:PT30M
ACTION:DISPLAY
END:VALARM
END:VEVENT
END:VCALENDAR