BEGIN:VCALENDAR
VERSION:2.0
PRODID:GlueUp
CALSCALE:GREGORIAN
BEGIN:VTIMEZONE
TZID:UTC
BEGIN:STANDARD
DTSTART:19700101T000000
TZOFFSETFROM:+0000
TZOFFSETTO:+0000
TZNAME:UTC
END:STANDARD
END:VTIMEZONE
BEGIN:VEVENT
TZ:+00
ORGANIZER;CN=Bale Xu:MAILTO:bale.xu@britishchambershanghai.cn
UID:48056-1776775291@https://britishchambershanghai.glueup.cn
DTSTAMP:20260421T124131Z
DTSTART:20251018T110000Z
DTEND:20251018T133000Z
SUMMARY:Alumni Match Corner: Personality × Possibility
DESCRIPTION:Alumni Match Corner: Personality × Possibility by British Chamber of Commerce Shanghai\n\nOct 18, 2025 (19:00 - 21:30)(GMT+8)\n\nFor more information, click here: https://britishchambershanghai.glueup.cn/my/events/48056
LOCATION:Grand Kempinski Hotel Shanghai - 1288 Lujiazui Ring Road - Pudong New District Shanghai - China
BEGIN:VALARM
TRIGGER:-PT48H
REPEAT:4
DURATION:PT30M
ACTION:DISPLAY
END:VALARM
END:VEVENT
END:VCALENDAR