BEGIN:VCALENDAR
VERSION:2.0
PRODID:GlueUp
CALSCALE:GREGORIAN
BEGIN:VTIMEZONE
TZID:UTC
BEGIN:STANDARD
DTSTART:19700101T000000
TZOFFSETFROM:+0000
TZOFFSETTO:+0000
TZNAME:UTC
END:STANDARD
END:VTIMEZONE
BEGIN:VEVENT
TZ:+00
ORGANIZER;CN=Eloise Zhang:MAILTO:eloise.zhang@britishchambershanghai.cn
UID:46786-1776980144@https://britishchambershanghai.glueup.cn
DTSTAMP:20260423T213544Z
DTSTART:20250422T093000Z
DTEND:20250422T123000Z
SUMMARY:AI for Coaching: Transforming Leadership and Personal Growth
DESCRIPTION:AI for Coaching: Transforming Leadership and Personal Growth by British Chamber of Commerce Shanghai\n\nApr 22, 2025 (17:30 - 20:30)(GMT+8)\n\nFor more information, click here: https://britishchambershanghai.glueup.cn/my/events/46786
LOCATION:Virgin Atlantic Clubhouse at BritCham Shanghai Office - 上海市静安区南京西路699号东方投资大厦21层2107室 上海市 - China
BEGIN:VALARM
TRIGGER:-PT48H
REPEAT:4
DURATION:PT30M
ACTION:DISPLAY
END:VALARM
END:VEVENT
END:VCALENDAR