BEGIN:VCALENDAR
VERSION:2.0
PRODID:GlueUp
CALSCALE:GREGORIAN
BEGIN:VTIMEZONE
TZID:UTC
BEGIN:STANDARD
DTSTART:19700101T000000
TZOFFSETFROM:+0000
TZOFFSETTO:+0000
TZNAME:UTC
END:STANDARD
END:VTIMEZONE
BEGIN:VEVENT
TZ:+00
ORGANIZER;CN=Bale Xu:MAILTO:bale.xu@britishchambershanghai.cn
UID:48331-1776775182@https://britishchambershanghai.glueup.cn
DTSTAMP:20260421T123942Z
DTSTART:20250926T103000Z
DTEND:20250926T130000Z
SUMMARY:After Hours – Moonlight Mixer
DESCRIPTION:After Hours – Moonlight Mixer by British Chamber of Commerce Shanghai\n\nSep 26, 2025 (18:30 - 21:00)(GMT+8)\n\nFor more information, click here: https://britishchambershanghai.glueup.cn/my/events/48331
LOCATION:Kimpton Qiantan Shanghai - No.9 - Lane 199 Qiantan Avenue - Pudong District Shanghai - China
BEGIN:VALARM
TRIGGER:-PT48H
REPEAT:4
DURATION:PT30M
ACTION:DISPLAY
END:VALARM
END:VEVENT
END:VCALENDAR