BEGIN:VCALENDAR
VERSION:2.0
PRODID:GlueUp
CALSCALE:GREGORIAN
BEGIN:VTIMEZONE
TZID:UTC
BEGIN:STANDARD
DTSTART:19700101T000000
TZOFFSETFROM:+0000
TZOFFSETTO:+0000
TZNAME:UTC
END:STANDARD
END:VTIMEZONE
BEGIN:VEVENT
TZ:+00
ORGANIZER;CN=Eloise Zhang:MAILTO:eloise.zhang@britishchambershanghai.cn
UID:47776-1776949980@https://britishchambershanghai.glueup.cn
DTSTAMP:20260423T131300Z
DTSTART:20250723T000000Z
DTEND:20250723T020000Z
SUMMARY:A New Day, A New Start: Breakfast with Renewal
DESCRIPTION:A New Day, A New Start: Breakfast with Renewal by British Chamber of Commerce Shanghai\n\nJul 23, 2025 (08:00 - 10:00)(GMT+8)\n\nFor more information, click here: https://britishchambershanghai.glueup.cn/my/events/47776
LOCATION:Virgin Atlantic Clubhouse at BritCham Shanghai Office - 上海市静安区南京西路699号东方投资大厦21层2107室 上海市 - China
BEGIN:VALARM
TRIGGER:-PT48H
REPEAT:4
DURATION:PT30M
ACTION:DISPLAY
END:VALARM
END:VEVENT
END:VCALENDAR