BEGIN:VCALENDAR
VERSION:2.0
PRODID:GlueUp
CALSCALE:GREGORIAN
BEGIN:VTIMEZONE
TZID:UTC
BEGIN:STANDARD
DTSTART:19700101T000000
TZOFFSETFROM:+0000
TZOFFSETTO:+0000
TZNAME:UTC
END:STANDARD
END:VTIMEZONE
BEGIN:VEVENT
TZ:+00
ORGANIZER;CN=Anne Lin:MAILTO:anne.lin@britishchambershanghai.cn
UID:41562-1776830924@https://britishchambershanghai.glueup.cn
DTSTAMP:20260422T040844Z
DTSTART:20231014T010000Z
DTEND:20231014T090000Z
SUMMARY:2023 BritCham Shanghai Corporate Sports Day
DESCRIPTION:2023 BritCham Shanghai Corporate Sports Day by British Chamber of Commerce Shanghai\n\nOct 14, 2023 (09:00 - 17:00)(GMT+8)\n\nFor more information, click here: https://britishchambershanghai.glueup.cn/my/events/41562
LOCATION:Nord Anglia International School Shanghai, Pudong - 2888 Junmin Road - Pudong New District - Shanghai - 上海英国外籍人员子女学校 （浦东校区） - 上海市浦东新区军民公路2888号 Shanghai - China
BEGIN:VALARM
TRIGGER:-PT48H
REPEAT:4
DURATION:PT30M
ACTION:DISPLAY
END:VALARM
END:VEVENT
END:VCALENDAR