BEGIN:VCALENDAR
VERSION:2.0
PRODID:GlueUp
CALSCALE:GREGORIAN
BEGIN:VTIMEZONE
TZID:UTC
BEGIN:STANDARD
DTSTART:19700101T000000
TZOFFSETFROM:+0000
TZOFFSETTO:+0000
TZNAME:UTC
END:STANDARD
END:VTIMEZONE
BEGIN:VEVENT
TZ:+00
ORGANIZER;CN=Yimeng Xia:MAILTO:yimeng.xia@britishchambershanghai.cn
UID:49025-1776949369@https://britishchambershanghai.glueup.cn
DTSTAMP:20260423T130249Z
DTSTART:20260115T103000Z
DTEND:20260115T133000Z
SUMMARY:1915 Club Burns Night Dinner
DESCRIPTION:1915 Club Burns Night Dinner by British Chamber of Commerce Shanghai\n\nJan 15, 2026 (18:30 - 21:30)(GMT+8)\n\nFor more information, click here: https://britishchambershanghai.glueup.cn/my/events/49025
LOCATION:Morton’s of Chicago, The Steakhouse - Shop 15-16 - 4/F - - Shanghai IFC Mall 8 Century Avenue - Pudong New Area - Shanghai -  - 莫尔顿牛排坊 - 陆家嘴世纪大道8号国金中心商场，4楼15-16 上海 - China
BEGIN:VALARM
TRIGGER:-PT48H
REPEAT:4
DURATION:PT30M
ACTION:DISPLAY
END:VALARM
END:VEVENT
END:VCALENDAR