BEGIN:VCALENDAR
VERSION:2.0
PRODID:GlueUp
CALSCALE:GREGORIAN
BEGIN:VTIMEZONE
TZID:UTC
BEGIN:STANDARD
DTSTART:19700101T000000
TZOFFSETFROM:+0000
TZOFFSETTO:+0000
TZNAME:UTC
END:STANDARD
END:VTIMEZONE
BEGIN:VEVENT
TZ:+00
ORGANIZER;CN=British Chamber Shanghai:MAILTO:admin@britishchambershanghai.cn
UID:49838-1777128476@https://britishchambershanghai.glueup.cn
DTSTAMP:20260425T144756Z
DTSTART:20260514T054500Z
DTEND:20260514T090000Z
SUMMARY:14 May | Training: AI for HR-Recruitment
DESCRIPTION:14 May | Training: AI for HR-Recruitment by British Chamber of Commerce Shanghai\n\nMay 14, 2026 (13:45 - 17:00)(GMT+8)\n\nFor more information, click here: https://britishchambershanghai.glueup.cn/my/events/49838
LOCATION:BritCham Shanghai Office Lounge - 上海市静安区南京西路699号东方投资大厦21层2107室 上海市 - China
BEGIN:VALARM
TRIGGER:-PT48H
REPEAT:4
DURATION:PT30M
ACTION:DISPLAY
END:VALARM
END:VEVENT
END:VCALENDAR